Package: fastLiquidAssociation Version: 1.47.0 Maintainer: Tina Gunderson MaintainerEmail: gunderson.tina at gmail.com git_url: https://git.bioconductor.org/packages/fastLiquidAssociation git_branch: devel git_last_commit: bde2bd2 git_last_commit_date: 2025-10-29 10:19:27 -0500 (Wed, 29 Oct 2025)