Package: factR Version: 1.13.0 Command: /Library/Frameworks/R.framework/Resources/bin/R CMD INSTALL factR StartedAt: 2025-11-20 15:20:32 -0500 (Thu, 20 Nov 2025) EndedAt: 2025-11-20 15:20:37 -0500 (Thu, 20 Nov 2025) EllapsedTime: 4.3 seconds RetCode: 0 Status: OK