Package: factR Version: 1.13.0 Command: /Library/Frameworks/R.framework/Resources/bin/R CMD build --keep-empty-dirs --no-resave-data factR StartedAt: 2025-11-19 16:21:22 -0500 (Wed, 19 Nov 2025) EndedAt: 2025-11-19 16:22:31 -0500 (Wed, 19 Nov 2025) EllapsedTime: 69.7 seconds RetCode: 0 Status: OK PackageFile: factR_1.13.0.tar.gz PackageFileSize: 1.839 MiB