Package: factR Version: 1.13.0 Command: rm -rf factR.buildbin-libdir && mkdir factR.buildbin-libdir && /Users/biocbuild/BBS/utils/build-universal.sh factR_1.13.0.tar.gz /Library/Frameworks/R.framework/Resources/bin/R factR.buildbin-libdir StartedAt: 2025-11-19 23:33:45 -0500 (Wed, 19 Nov 2025) EndedAt: 2025-11-19 23:33:51 -0500 (Wed, 19 Nov 2025) EllapsedTime: 6.2 seconds RetCode: 0 Status: OK PackageFile: factR_1.13.0.tgz PackageFileSize: 1.929 MiB