Package: factDesign Version: 1.87.0 Command: /home/biocbuild/bbs-3.23-bioc/R/bin/R CMD INSTALL factDesign StartedAt: 2025-11-13 15:12:50 -0500 (Thu, 13 Nov 2025) EndedAt: 2025-11-13 15:12:52 -0500 (Thu, 13 Nov 2025) EllapsedTime: 2.6 seconds RetCode: 0 Status: OK