Package: factDesign Version: 1.87.0 Command: /home/biocbuild/bbs-3.23-bioc/R/bin/R CMD build --keep-empty-dirs --no-resave-data factDesign StartedAt: 2025-11-13 17:34:07 -0500 (Thu, 13 Nov 2025) EndedAt: 2025-11-13 17:34:16 -0500 (Thu, 13 Nov 2025) EllapsedTime: 9.0 seconds RetCode: 0 Status: OK PackageFile: factDesign_1.87.0.tar.gz PackageFileSize: 217 KiB