Package: factDesign Version: 1.87.0 Command: rm -rf factDesign.buildbin-libdir && mkdir factDesign.buildbin-libdir && /Users/biocbuild/BBS/utils/build-universal.sh factDesign_1.87.0.tar.gz /Library/Frameworks/R.framework/Resources/bin/R factDesign.buildbin-libdir StartedAt: 2025-11-14 23:32:31 -0500 (Fri, 14 Nov 2025) EndedAt: 2025-11-14 23:32:34 -0500 (Fri, 14 Nov 2025) EllapsedTime: 3.1 seconds RetCode: 0 Status: OK PackageFile: factDesign_1.87.0.tgz PackageFileSize: 232.1 KiB