Package: factDesign Version: 1.87.0 Maintainer: Denise Scholtens MaintainerEmail: dscholtens at northwestern.edu git_url: https://git.bioconductor.org/packages/factDesign git_branch: devel git_last_commit: dc551b8 git_last_commit_date: 2025-10-29 09:53:54 -0500 (Wed, 29 Oct 2025)