Package: fCI Version: 1.41.0 Command: /home/biocbuild/bbs-3.23-bioc/R/bin/R CMD INSTALL fCI StartedAt: 2025-11-16 15:07:50 -0500 (Sun, 16 Nov 2025) EndedAt: 2025-11-16 15:08:29 -0500 (Sun, 16 Nov 2025) EllapsedTime: 39.2 seconds RetCode: 0 Status: OK