Package: fCI Version: 1.41.0 Command: /Library/Frameworks/R.framework/Resources/bin/R CMD INSTALL fCI StartedAt: 2025-11-12 15:18:45 -0500 (Wed, 12 Nov 2025) EndedAt: 2025-11-12 15:19:04 -0500 (Wed, 12 Nov 2025) EllapsedTime: 19.2 seconds RetCode: 0 Status: OK