Package: fCI Version: 1.41.0 Command: /Library/Frameworks/R.framework/Resources/bin/R CMD build --keep-empty-dirs --no-resave-data fCI StartedAt: 2025-11-13 16:23:55 -0500 (Thu, 13 Nov 2025) EndedAt: 2025-11-13 16:24:08 -0500 (Thu, 13 Nov 2025) EllapsedTime: 13.1 seconds RetCode: 0 Status: OK PackageFile: fCI_1.41.0.tar.gz PackageFileSize: 1.321 MiB