Package: fCCAC Version: 1.37.0 Command: /home/biocbuild/bbs-3.23-bioc/R/bin/R CMD INSTALL fCCAC StartedAt: 2025-11-16 15:30:26 -0500 (Sun, 16 Nov 2025) EndedAt: 2025-11-16 15:31:04 -0500 (Sun, 16 Nov 2025) EllapsedTime: 38.1 seconds RetCode: 0 Status: OK