Package: fCCAC Version: 1.37.0 Command: /home/biocbuild/bbs-3.23-bioc/R/bin/R CMD build --keep-empty-dirs --no-resave-data fCCAC StartedAt: 2025-11-16 17:36:51 -0500 (Sun, 16 Nov 2025) EndedAt: 2025-11-16 17:37:50 -0500 (Sun, 16 Nov 2025) EllapsedTime: 59.1 seconds RetCode: 0 Status: OK PackageFile: fCCAC_1.37.0.tar.gz PackageFileSize: 3.499 MiB