Package: fCCAC Version: 1.37.0 Command: /Library/Frameworks/R.framework/Resources/bin/R CMD INSTALL fCCAC StartedAt: 2025-11-14 15:17:57 -0500 (Fri, 14 Nov 2025) EndedAt: 2025-11-14 15:18:13 -0500 (Fri, 14 Nov 2025) EllapsedTime: 16.4 seconds RetCode: 0 Status: OK