Package: fCCAC Version: 1.37.0 Command: rm -rf fCCAC.buildbin-libdir && mkdir fCCAC.buildbin-libdir && /Users/biocbuild/BBS/utils/build-universal.sh fCCAC_1.37.0.tar.gz /Library/Frameworks/R.framework/Resources/bin/R fCCAC.buildbin-libdir StartedAt: 2025-11-13 23:37:30 -0500 (Thu, 13 Nov 2025) EndedAt: 2025-11-13 23:37:49 -0500 (Thu, 13 Nov 2025) EllapsedTime: 19.4 seconds RetCode: 0 Status: OK PackageFile: fCCAC_1.37.0.tgz PackageFileSize: 3.532 MiB