Package: extraChIPs Version: 1.15.2 Command: /home/biocbuild/bbs-3.23-bioc/R/bin/R CMD INSTALL extraChIPs StartedAt: 2025-11-23 15:30:14 -0500 (Sun, 23 Nov 2025) EndedAt: 2025-11-23 15:30:56 -0500 (Sun, 23 Nov 2025) EllapsedTime: 41.8 seconds RetCode: 0 Status: OK