Package: extraChIPs Version: 1.15.0 Command: /Library/Frameworks/R.framework/Resources/bin/R CMD INSTALL extraChIPs StartedAt: 2025-11-16 15:17:38 -0500 (Sun, 16 Nov 2025) EndedAt: 2025-11-16 15:17:55 -0500 (Sun, 16 Nov 2025) EllapsedTime: 17.0 seconds RetCode: 0 Status: OK