Package: extraChIPs Version: 1.15.1 Command: /Library/Frameworks/R.framework/Resources/bin/R CMD build --keep-empty-dirs --no-resave-data extraChIPs StartedAt: 2025-11-17 17:05:36 -0500 (Mon, 17 Nov 2025) EndedAt: 2025-11-17 17:06:11 -0500 (Mon, 17 Nov 2025) EllapsedTime: 35.4 seconds RetCode: 0 Status: OK PackageFile: extraChIPs_1.15.1.tar.gz PackageFileSize: 3.872 MiB