Package: evaluomeR Version: 1.27.0 Command: /home/biocbuild/bbs-3.23-bioc/R/bin/R CMD INSTALL evaluomeR StartedAt: 2025-11-14 15:33:56 -0500 (Fri, 14 Nov 2025) EndedAt: 2025-11-14 15:34:36 -0500 (Fri, 14 Nov 2025) EllapsedTime: 40.0 seconds RetCode: 0 Status: OK