Package: evaluomeR Version: 1.27.0 Command: rm -rf evaluomeR.buildbin-libdir && mkdir evaluomeR.buildbin-libdir && /Users/biocbuild/BBS/utils/build-universal.sh evaluomeR_1.27.0.tar.gz /Library/Frameworks/R.framework/Resources/bin/R evaluomeR.buildbin-libdir StartedAt: 2025-11-13 23:37:13 -0500 (Thu, 13 Nov 2025) EndedAt: 2025-11-13 23:37:29 -0500 (Thu, 13 Nov 2025) EllapsedTime: 16.4 seconds RetCode: 0 Status: OK PackageFile: evaluomeR_1.27.0.tgz PackageFileSize: 779.7 KiB