Package: erccdashboard Version: 1.45.0 Command: /home/biocbuild/bbs-3.23-bioc/R/bin/R CMD INSTALL erccdashboard StartedAt: 2025-11-11 15:12:32 -0500 (Tue, 11 Nov 2025) EndedAt: 2025-11-11 15:12:41 -0500 (Tue, 11 Nov 2025) EllapsedTime: 8.6 seconds RetCode: 0 Status: OK