Package: erccdashboard Version: 1.45.0 Command: /Library/Frameworks/R.framework/Resources/bin/R CMD INSTALL erccdashboard StartedAt: 2025-11-13 15:04:55 -0500 (Thu, 13 Nov 2025) EndedAt: 2025-11-13 15:05:00 -0500 (Thu, 13 Nov 2025) EllapsedTime: 4.7 seconds RetCode: 0 Status: OK