Package: erccdashboard Version: 1.45.0 Command: /Library/Frameworks/R.framework/Resources/bin/R CMD build --keep-empty-dirs --no-resave-data erccdashboard StartedAt: 2025-11-13 16:22:12 -0500 (Thu, 13 Nov 2025) EndedAt: 2025-11-13 16:22:32 -0500 (Thu, 13 Nov 2025) EllapsedTime: 20.2 seconds RetCode: 0 Status: OK PackageFile: erccdashboard_1.45.0.tar.gz PackageFileSize: 2.134 MiB