Package: erccdashboard Version: 1.45.0 Maintainer: Sarah Munro MaintainerEmail: sarah.munro at gmail.com git_url: https://git.bioconductor.org/packages/erccdashboard git_branch: devel git_last_commit: 44713e8 git_last_commit_date: 2025-10-29 10:21:01 -0500 (Wed, 29 Oct 2025)