Package: epivizrServer Version: 1.39.0 Command: /Library/Frameworks/R.framework/Resources/bin/R CMD INSTALL epivizrServer StartedAt: 2025-11-23 15:02:42 -0500 (Sun, 23 Nov 2025) EndedAt: 2025-11-23 15:02:47 -0500 (Sun, 23 Nov 2025) EllapsedTime: 5.1 seconds RetCode: 0 Status: OK