Package: epivizrServer Version: 1.39.0 Command: /Library/Frameworks/R.framework/Resources/bin/R CMD build --keep-empty-dirs --no-resave-data epivizrServer StartedAt: 2025-11-23 16:19:57 -0500 (Sun, 23 Nov 2025) EndedAt: 2025-11-23 16:20:00 -0500 (Sun, 23 Nov 2025) EllapsedTime: 3.0 seconds RetCode: 1 Status: ERROR PackageFile: None PackageFileSize: NA