Package: epivizrServer Version: 1.39.0 Command: rm -rf epivizrServer.buildbin-libdir && mkdir epivizrServer.buildbin-libdir && /Users/biocbuild/BBS/utils/build-universal.sh epivizrServer_1.39.0.tar.gz /Library/Frameworks/R.framework/Resources/bin/R epivizrServer.buildbin-libdir StartedAt: 2025-11-21 23:31:41 -0500 (Fri, 21 Nov 2025) EndedAt: 2025-11-21 23:31:44 -0500 (Fri, 21 Nov 2025) EllapsedTime: 3.1 seconds RetCode: 0 Status: OK PackageFile: epivizrServer_1.39.0.tgz PackageFileSize: 458.7 KiB