Package: epivizrData Version: 1.39.0 Command: /Library/Frameworks/R.framework/Resources/bin/R CMD INSTALL epivizrData StartedAt: 2025-11-19 15:23:54 -0500 (Wed, 19 Nov 2025) EndedAt: 2025-11-19 15:24:11 -0500 (Wed, 19 Nov 2025) EllapsedTime: 16.5 seconds RetCode: 0 Status: OK