Package: epivizrData Version: 1.39.0 Command: /Library/Frameworks/R.framework/Resources/bin/R CMD build --keep-empty-dirs --no-resave-data epivizrData StartedAt: 2025-11-19 16:19:55 -0500 (Wed, 19 Nov 2025) EndedAt: 2025-11-19 16:20:17 -0500 (Wed, 19 Nov 2025) EllapsedTime: 22.3 seconds RetCode: 0 Status: OK PackageFile: epivizrData_1.39.0.tar.gz PackageFileSize: 243.3 KiB