Package: epivizrData Version: 1.39.0 Command: rm -rf epivizrData.buildbin-libdir && mkdir epivizrData.buildbin-libdir && /Users/biocbuild/BBS/utils/build-universal.sh epivizrData_1.39.0.tar.gz /Library/Frameworks/R.framework/Resources/bin/R epivizrData.buildbin-libdir StartedAt: 2025-11-19 23:33:23 -0500 (Wed, 19 Nov 2025) EndedAt: 2025-11-19 23:33:44 -0500 (Wed, 19 Nov 2025) EllapsedTime: 20.8 seconds RetCode: 0 Status: OK PackageFile: epivizrData_1.39.0.tgz PackageFileSize: 878.6 KiB