Package: epivizrChart Version: 1.33.0 Command: /home/biocbuild/bbs-3.23-bioc/R/bin/R CMD build --keep-empty-dirs --no-resave-data epivizrChart StartedAt: 2025-11-14 17:30:54 -0500 (Fri, 14 Nov 2025) EndedAt: 2025-11-14 17:33:11 -0500 (Fri, 14 Nov 2025) EllapsedTime: 137.1 seconds RetCode: 0 Status: OK PackageFile: epivizrChart_1.33.0.tar.gz PackageFileSize: 5.315 MiB