Package: epivizrChart Version: 1.33.0 Command: /Library/Frameworks/R.framework/Resources/bin/R CMD build --keep-empty-dirs --no-resave-data epivizrChart StartedAt: 2025-11-13 16:21:47 -0500 (Thu, 13 Nov 2025) EndedAt: 2025-11-13 16:22:49 -0500 (Thu, 13 Nov 2025) EllapsedTime: 62.7 seconds RetCode: 0 Status: OK PackageFile: epivizrChart_1.33.0.tar.gz PackageFileSize: 5.315 MiB