Package: epivizrChart Version: 1.33.0 Command: rm -rf epivizrChart.buildbin-libdir && mkdir epivizrChart.buildbin-libdir && /Users/biocbuild/BBS/utils/build-universal.sh epivizrChart_1.33.0.tar.gz /Library/Frameworks/R.framework/Resources/bin/R epivizrChart.buildbin-libdir StartedAt: 2025-11-13 23:37:05 -0500 (Thu, 13 Nov 2025) EndedAt: 2025-11-13 23:37:27 -0500 (Thu, 13 Nov 2025) EllapsedTime: 22.5 seconds RetCode: 0 Status: OK PackageFile: epivizrChart_1.33.0.tgz PackageFileSize: 6.271 MiB