Package: epivizr Version: 2.41.0 Command: /home/biocbuild/bbs-3.23-bioc/R/bin/R CMD build --keep-empty-dirs --no-resave-data epivizr StartedAt: 2025-11-16 17:31:59 -0500 (Sun, 16 Nov 2025) EndedAt: 2025-11-16 17:33:11 -0500 (Sun, 16 Nov 2025) EllapsedTime: 72.0 seconds RetCode: 0 Status: OK PackageFile: epivizr_2.41.0.tar.gz PackageFileSize: 1.18 MiB