Package: epivizr Version: 2.41.0 Command: /Library/Frameworks/R.framework/Resources/bin/R CMD build --keep-empty-dirs --no-resave-data epivizr StartedAt: 2025-11-14 16:18:26 -0500 (Fri, 14 Nov 2025) EndedAt: 2025-11-14 16:19:01 -0500 (Fri, 14 Nov 2025) EllapsedTime: 35.3 seconds RetCode: 0 Status: OK PackageFile: epivizr_2.41.0.tar.gz PackageFileSize: 1.201 MiB