Package: epivizr Version: 2.41.0 Command: rm -rf epivizr.buildbin-libdir && mkdir epivizr.buildbin-libdir && /Users/biocbuild/BBS/utils/build-universal.sh epivizr_2.41.0.tar.gz /Library/Frameworks/R.framework/Resources/bin/R epivizr.buildbin-libdir StartedAt: 2025-11-13 23:37:05 -0500 (Thu, 13 Nov 2025) EndedAt: 2025-11-13 23:37:26 -0500 (Thu, 13 Nov 2025) EllapsedTime: 21.5 seconds RetCode: 0 Status: OK PackageFile: epivizr_2.41.0.tgz PackageFileSize: 2.047 MiB