Package: epistasisGA Version: 1.13.0 Command: /home/biocbuild/bbs-3.23-bioc/R/bin/R CMD INSTALL epistasisGA StartedAt: 2025-11-14 15:12:27 -0500 (Fri, 14 Nov 2025) EndedAt: 2025-11-14 15:13:17 -0500 (Fri, 14 Nov 2025) EllapsedTime: 50.0 seconds RetCode: 0 Status: OK