Package: epistasisGA Version: 1.13.0 Command: /home/biocbuild/bbs-3.23-bioc/R/bin/R CMD build --keep-empty-dirs --no-resave-data epistasisGA StartedAt: 2025-11-14 17:30:42 -0500 (Fri, 14 Nov 2025) EndedAt: 2025-11-14 17:34:07 -0500 (Fri, 14 Nov 2025) EllapsedTime: 205.2 seconds RetCode: 0 Status: OK PackageFile: epistasisGA_1.13.0.tar.gz PackageFileSize: 2.034 MiB