Package: epistasisGA Version: 1.13.0 Command: /Library/Frameworks/R.framework/Resources/bin/R CMD INSTALL epistasisGA StartedAt: 2025-11-14 15:07:05 -0500 (Fri, 14 Nov 2025) EndedAt: 2025-11-14 15:07:19 -0500 (Fri, 14 Nov 2025) EllapsedTime: 14.2 seconds RetCode: 0 Status: OK