Package: epistasisGA Version: 1.13.0 Command: /Library/Frameworks/R.framework/Resources/bin/R CMD build --keep-empty-dirs --no-resave-data epistasisGA StartedAt: 2025-11-14 16:18:23 -0500 (Fri, 14 Nov 2025) EndedAt: 2025-11-14 16:19:40 -0500 (Fri, 14 Nov 2025) EllapsedTime: 77.8 seconds RetCode: 0 Status: OK PackageFile: epistasisGA_1.13.0.tar.gz PackageFileSize: 2.065 MiB