Package: epistasisGA Version: 1.13.0 Command: rm -rf epistasisGA.buildbin-libdir && mkdir epistasisGA.buildbin-libdir && /Users/biocbuild/BBS/utils/build-universal.sh epistasisGA_1.13.0.tar.gz /Library/Frameworks/R.framework/Resources/bin/R epistasisGA.buildbin-libdir StartedAt: 2025-11-14 23:32:06 -0500 (Fri, 14 Nov 2025) EndedAt: 2025-11-14 23:32:25 -0500 (Fri, 14 Nov 2025) EllapsedTime: 18.4 seconds RetCode: 0 Status: OK PackageFile: epistasisGA_1.13.0.tgz PackageFileSize: 2.419 MiB