Package: epistack Version: 1.17.0 Command: /home/biocbuild/bbs-3.23-bioc/R/bin/R CMD INSTALL epistack StartedAt: 2025-11-16 15:22:17 -0500 (Sun, 16 Nov 2025) EndedAt: 2025-11-16 15:22:36 -0500 (Sun, 16 Nov 2025) EllapsedTime: 19.7 seconds RetCode: 0 Status: OK