Package: epistack Version: 1.17.0 Command: /home/biocbuild/bbs-3.23-bioc/R/bin/R CMD build --keep-empty-dirs --no-resave-data epistack StartedAt: 2025-11-14 17:30:23 -0500 (Fri, 14 Nov 2025) EndedAt: 2025-11-14 17:31:53 -0500 (Fri, 14 Nov 2025) EllapsedTime: 90.0 seconds RetCode: 0 Status: OK PackageFile: epistack_1.17.0.tar.gz PackageFileSize: 3.717 MiB