Package: epistack Version: 1.17.0 Command: /Library/Frameworks/R.framework/Resources/bin/R CMD INSTALL epistack StartedAt: 2025-11-13 15:13:55 -0500 (Thu, 13 Nov 2025) EndedAt: 2025-11-13 15:14:03 -0500 (Thu, 13 Nov 2025) EllapsedTime: 8.2 seconds RetCode: 0 Status: OK