Package: epistack Version: 1.17.0 Command: /Library/Frameworks/R.framework/Resources/bin/R CMD build --keep-empty-dirs --no-resave-data epistack StartedAt: 2025-11-13 16:21:15 -0500 (Thu, 13 Nov 2025) EndedAt: 2025-11-13 16:21:54 -0500 (Thu, 13 Nov 2025) EllapsedTime: 38.4 seconds RetCode: 0 Status: OK PackageFile: epistack_1.17.0.tar.gz PackageFileSize: 3.905 MiB