Package: epistack Version: 1.17.0 Command: rm -rf epistack.buildbin-libdir && mkdir epistack.buildbin-libdir && /Users/biocbuild/BBS/utils/build-universal.sh epistack_1.17.0.tar.gz /Library/Frameworks/R.framework/Resources/bin/R epistack.buildbin-libdir StartedAt: 2025-11-13 23:36:59 -0500 (Thu, 13 Nov 2025) EndedAt: 2025-11-13 23:37:10 -0500 (Thu, 13 Nov 2025) EllapsedTime: 11.5 seconds RetCode: 0 Status: OK PackageFile: epistack_1.17.0.tgz PackageFileSize: 2.129 MiB