Package: epistack Version: 1.17.0 Maintainer: DEVAILLY Guillaume MaintainerEmail: gdevailly at hotmail.com git_url: https://git.bioconductor.org/packages/epistack git_branch: devel git_last_commit: d86c320 git_last_commit_date: 2025-10-29 11:13:05 -0500 (Wed, 29 Oct 2025)