Package: epiregulon Version: 2.1.2 Command: /Library/Frameworks/R.framework/Resources/bin/R CMD INSTALL epiregulon StartedAt: 2025-11-16 15:29:11 -0500 (Sun, 16 Nov 2025) EndedAt: 2025-11-16 15:29:24 -0500 (Sun, 16 Nov 2025) EllapsedTime: 13.3 seconds RetCode: 0 Status: OK