Package: epiregulon Version: 2.1.2 Command: /Library/Frameworks/R.framework/Resources/bin/R CMD build --keep-empty-dirs --no-resave-data epiregulon StartedAt: 2025-11-17 17:03:29 -0500 (Mon, 17 Nov 2025) EndedAt: 2025-11-17 17:07:50 -0500 (Mon, 17 Nov 2025) EllapsedTime: 261.6 seconds RetCode: 0 Status: OK PackageFile: epiregulon_2.1.2.tar.gz PackageFileSize: 1.31 MiB