Package: epimutacions Version: 1.15.0 Command: /home/biocbuild/bbs-3.23-bioc/R/bin/R CMD INSTALL epimutacions StartedAt: 2025-11-13 16:00:51 -0500 (Thu, 13 Nov 2025) EndedAt: 2025-11-13 16:01:39 -0500 (Thu, 13 Nov 2025) EllapsedTime: 47.7 seconds RetCode: 0 Status: OK